BEGIN:VCALENDAR
VERSION:2.0
PRODID:-//AVIS Comunale Reggio Calabria - ECPv6.0.9//NONSGML v1.0//EN
CALSCALE:GREGORIAN
METHOD:PUBLISH
X-ORIGINAL-URL:https://avisrc.it
X-WR-CALDESC:Eventi per AVIS Comunale Reggio Calabria
REFRESH-INTERVAL;VALUE=DURATION:PT1H
X-Robots-Tag:noindex
X-PUBLISHED-TTL:PT1H
BEGIN:VTIMEZONE
TZID:UTC
BEGIN:STANDARD
TZOFFSETFROM:+0000
TZOFFSETTO:+0000
TZNAME:UTC
DTSTART:20160101T000000
END:STANDARD
TZID:Europe/Helsinki
BEGIN:DAYLIGHT
TZOFFSETFROM:+0200
TZOFFSETTO:+0300
TZNAME:EEST
DTSTART:20160327T010000
END:DAYLIGHT
BEGIN:STANDARD
TZOFFSETFROM:+0300
TZOFFSETTO:+0200
TZNAME:EET
DTSTART:20161030T010000
END:STANDARD
END:VTIMEZONE
BEGIN:VEVENT
DTSTART;TZID=UTC:20160520T080000
DTEND;TZID=UTC:20160522T170000
DTSTAMP:20260419T202433
CREATED:20160405T125416Z
LAST-MODIFIED:20160610T092302Z
UID:2200-1463731200-1463936400@avisrc.it
SUMMARY:80^ Assemblea Generale AVIS: Mantova\, 20-22 Maggio 2016
DESCRIPTION:L’ottantesima Assemblea di AVIS Nazionale\, dal titolo “Donare è cultura”\, si terrà a Mantova nei giorni 20\,21 e 22 maggio 2016. \n«Mantova è stata designata “Capitale Italiana della Cultura 2016” – sottolinea il Presidente Nazionale\, Vincenzo Saturni – ed è questo il motivo per cui ho personalmente proposto e sostenuto che si organizzasse il nostro appuntamento annuale più significativo in tale città. \nEssere parte di questo evento\, riuscire a caratterizzare la nostra presenza in città\, sottolineare come AVIS possa contribuire a “Creare Cultura”\, nell’accezione più ampia del termine\, penso sia una sfida che dobbiamo raccogliere per rimarcare come anche la donazione del sangue abbia un profondo significato culturale. \nÈ quindi con questa prospettiva che ci dobbiamo preparare a questo appuntamento\, per viverlo appieno con la collaborazione e il supporto delle Avis mantovane che hanno colto con entusiasmo la nostra decisione». \nSede dei lavori assembleari sarà il Palabam (www.palabam.it)\, stuttura che può contare su una superficie espositiva di oltre 12000 metri quadrati\, di cui oltre 4000 coperti. \n  \n\nMantova – Piazza delle Erbe \n\n\nIl Palabam – Complesso polifunzionale e fieristico \n\n 
URL:https://avisrc.it/event/80-assemblea-generale-avis-2016/
LOCATION:Centro Polifunzionale e Fieristico Palabam – Mantova\, Via Melchiorre Gioia 3\, Mantova\, 46100\, Italia
CATEGORIES:Assemblea Generale
ATTACH;FMTTYPE=image/jpeg:https://avisrc.it/wp-content/uploads/2016/04/News-Donare-Cultura-Avis-680x224.jpg
ORGANIZER;CN="Avis%20Nazionale":MAILTO: avis.nazionale@avis.it - avisnazionale@pec.it
END:VEVENT
BEGIN:VEVENT
DTSTART;TZID=Europe/Helsinki:20160527T190000
DTEND;TZID=Europe/Helsinki:20160527T230000
DTSTAMP:20260419T202433
CREATED:20160523T144802Z
LAST-MODIFIED:20160524T083049Z
UID:3546-1464375600-1464390000@avisrc.it
SUMMARY:#ApericenaAvis
DESCRIPTION:A come Apericena\, A come Avis! \nL’associazione volontari del sangue ha organizzato a Reggio Calabria un appuntamento da non perdere. \nUn’apericena per stare insieme e per conoscerci. \nVogliamo che tu sappia che sei speciale. \nSei prezioso e importante. \nVuoi sapere perché? \nPerché puoi essere un pezzo del nostro puzzle che da la vita agli altri gratuitamente. \nIntanto vieni a mangiare qualcosa e bere un drink con noi\, senza impegno. \nPoi si vedrà. \nInfo e tavoli: Marco 349.5827434 | Lucia 345.4331159
URL:https://avisrc.it/event/apericenaavis/
LOCATION:Malavenda Cafè\, via Zecca \, 1\, Reggio Calabria\, 89125\, Italia
ATTACH;FMTTYPE=image/png:https://avisrc.it/wp-content/uploads/2016/05/apericena-avis2-01.png
END:VEVENT
END:VCALENDAR