BEGIN:VCALENDAR
VERSION:2.0
PRODID:-//AVIS Comunale Reggio Calabria - ECPv6.0.9//NONSGML v1.0//EN
CALSCALE:GREGORIAN
METHOD:PUBLISH
X-ORIGINAL-URL:https://avisrc.it
X-WR-CALDESC:Eventi per AVIS Comunale Reggio Calabria
REFRESH-INTERVAL;VALUE=DURATION:PT1H
X-Robots-Tag:noindex
X-PUBLISHED-TTL:PT1H
BEGIN:VTIMEZONE
TZID:UTC
BEGIN:STANDARD
TZOFFSETFROM:+0000
TZOFFSETTO:+0000
TZNAME:UTC
DTSTART:20160101T000000
END:STANDARD
END:VTIMEZONE
BEGIN:VEVENT
DTSTART;TZID=UTC:20160417T090000
DTEND;TZID=UTC:20160417T120000
DTSTAMP:20260419T233339
CREATED:20160411T070058Z
LAST-MODIFIED:20160416T154841Z
UID:2514-1460883600-1460894400@avisrc.it
SUMMARY:44ª Assemblea Avis Regionale Calabria
DESCRIPTION: 44ª Assemblea Avis Regionale Calabria che si terrà giorno 17 aprile p.v. presso il Best Western Villa Fabiano\, Via Cristoforo Colombo\, 87036 Rende (CS). \n\n\n\n\nL’Assemblea ordinaria Regionale dell’Avis Calabria è convocata per il giorno 17 aprile 2016 in prima convocazione alle ore 07:00 e in seconda convocazione alle ore 09:00 presso il Best Western Villa Fabiano\, Via Cristoforo Colombo\, 87036 Rende (CS) per discutere e deliberare il seguente O.d.G.: \n\nNomina del Segretario dei lavori e dei Questori di sala;\nRelazione Assembleare del Consiglio Direttivo;\nPresentazione del Bilancio Consuntivo 2015\, del Preventivo 2016 e del Budget 2016;\nDiscussione sulla Relazione\, sui Bilanci e sul Budget;\nRelazione del Collegio dei Revisori;\nRelazione della Commissione Verifica Poteri;\nVotazione sulla Relazione e sul Bilancio Consuntivo 2015;\nVotazione sul Bilancio Preventivo 2016 e sul Budget 2016;\nElezione Commissione Verifica Poteri per il quadriennio 2016 – 2019;\nNomina Delegati Assemblea Nazionale Mantova 2016;\nNomina dei candidati per il rinnovo della Commissione Verifica Poteri diAVIS Nazionale per il quadriennio 2016 – 2019;\nComposizione Consiglio Direttivo prossimo mandato – art.11 c.1 Statuto Avis RegionaleCalabria.
URL:https://avisrc.it/event/44a-assemblea-avis-regionale-calabria/
LOCATION:Best Western Villa Fabiano\,\, Via Cristoforo Colombo\, Rende\, Cosenza\, 87036\, Italia
CATEGORIES:Assemblea Regionale Calabria
ORGANIZER;CN="Avis%20Regionale%20Calabria":MAILTO: calabria@avis.it
END:VEVENT
END:VCALENDAR